Workbook
Name _Toc128062871: 'Full list'!$A$2
Name _Toc128062872: 'Place based factors'!$A$1
Name _Toc128062873: 'Full list'!#REF!
Name _Toc128062874: 'Whole system design'!$A$40
Name _Toc128062875: 'Whole system design'!$A$13
Name _Toc128062878: 'Whole system design'!$A$10
Name _Toc128062879: 'Full list'!$A$14
Name _Toc128062880: 'Full list'!#REF!
Name _Toc128062886: 'Full list'!$A$26
Name _Toc128062887: 'Full list'!#REF!
Name _Toc128062893: 'Full list'!#REF!
Name _Toc128062894: 'Full list'!#REF!
Name _Toc128062900: 'Full list'!$A$55
Name _Toc128062901: 'Full list'!#REF!
Name _Toc128062907: 'Full list'!$A$69
Name _Toc128062908: 'Full list'!#REF!
Name _Toc128062914: 'Full list'!$A$81
Name _Toc128062915: 'Full list'!#REF!
Name _Toc128062921: 'Full list'!$A$92
Name _Toc128062922: 'Full list'!#REF!

Sheet Contents
A1: Applying a Strengths-Based Methodology to Your Strategic Commissioning - Overview notes to the toolkit methodology
A3: Contents
A4: Familiarisation | B4: Step 1 Familiarisation with materials | C4: Link to pre-reading Pre-reading for Commissioning Aspects 1-8
A5: Step2 - Quick evaluation | B5: Step 2 - Quick initial evaluation of the place against the 8 commissioning aspects
A6: Step 3 - Methodology - Self-assessment against the 8 commissioning aspects | B6: Step 3 - Self-Assessment across all 8 aspects. Initial Methodology sheet, followed by 8 Commissioning aspect worksheets
A7: Aspect 1. Whole system design
A8: Aspect 2. Relationships and organisation across the system
A9: Aspect 3. Capacity, capability and confidence
A10: Aspect 4. User and outcome-centred
A11: Aspect 5. Information, insight and innovation
A12: Aspect 6. Managing the policy and compliance landscape
A13: Aspect 7. Commissioning process
A14: Aspect 8. Models and tactics
A15: Step 4 - Analysis tool to help select preferred Strategic Commissioning Approach | B15: Step 4 - Use insight, scores and weighting from the self-assessment to select a Strategic Commissioning Approach
A16: Step 5 - Constraints and Enablers | B16: Step 5 - (Optional) Use the identified constraining and enabling factors from the self-assessment to support improvement action planning for your Commissioning Development Plan
A17: Place-based factors | B17: Place-based factors which may also enable or contrain, to be considered at Step 3 and Step 5
B18: Step 6 - Read introductory materials to familiarise yourselves with the Strategic Commissioning Approach, and implementation materials to prepare for implementing your selected Strategic Commissioning Approach | C18: Link to pre-reading Pre-reading for Commissioning Approaches 1-8

Sheet Step 2 Quick evaluation
A1: Step 2 - Quick evaluation of our commissioning against the 8 commissioning aspects
A2: Return to Contents
A3: The Eight Commissioning Aspects
A4: Aspect | B4: How well do we think we are doing on each aspect - on a scale of 0 (Worst) to 100 (Best)? | C4: Value assigned - quick evaluation | D4: Quick assessment | E4: Based on detailed assessment | F4: Value assigned following the detailed evaluation (taking each aspect in detail)
A5: Aspect 1. Whole system design Working as one place to create a context that is optimally set up for wellbeing, mutual support, and care | D5: =(IF(C5=0,"Awaiting value",(IF(AND(C5<25,C5>0),"We have identified failures in the process that pose a significant risk",(IF(AND(C5>24,C5<50),"We have identified risks posed to the systems in place and improvement is required/need to be addressed with medium priority",(IF(AND(C5>49,C5<75),"We have identified no immediate risk is posed to the systems in place, however several shortfalls will need to be addressed with low priority",(IF(C5>74,"We have identified that very good/excellent systems are in place and that no risk has been identified in this process","Void result")))))))))) | E5: =IF(AND(F5>50,F5>F6),"Preferred approach","") | F5: ='Whole system design'!B37 | G5: =(IF(F5=0,"Awaiting value",(IF(AND(F5<25,F5>0),"We have identified failures in the process that pose a significant risk",(IF(AND(F5>24,F5<50),"We have identified risks posed to the systems in place and improvement is required/need to be addressed with medium priority",(IF(AND(F5>49,F5<75),"We have identified no immediate risk is posed to the systems in place, however several shortfalls will need to be addressed with low priority",(IF(F5>74,"We have identified that very good/excellent systems are in place and that no risk has been identified in this process","Void result"))))))))))
A6: Aspect 2. Relationships and organisation across the system A place where everyone is focused on achieving shared goals, together, and incentives and funding streams are aligned | D6: =(IF(C6=0,"Awaiting value",(IF(AND(C6<25,C6>0),"We have identified failures in the process that pose a significant risk",(IF(AND(C6>24,C6<50),"We have identified risks posed to the systems in place and improvement is required/need to be addressed with medium priority",(IF(AND(C6>49,C6<75),"We have identified no immediate risk is posed to the systems in place, however several shortfalls will need to be addressed with low priority",(IF(C6>74,"We have identified that very good/excellent systems are in place and that no risk has been identified in this process","Void result")))))))))) | E6: =IF(AND(F6>50,F6>F7),"Preferred approach","") | G6: =(IF(F6=0,"Awaiting value",(IF(AND(F6<25,F6>0),"We have identified failures in the process that pose a significant risk",(IF(AND(F6>24,F6<50),"We have identified risks posed to the systems in place and improvement is required/need to be addressed with medium priority",(IF(AND(F6>49,F6<75),"We have identified no immediate risk is posed to the systems in place, however several shortfalls will need to be addressed with low priority",(IF(F6>74,"We have identified that very good/excellent systems are in place and that no risk has been identified in this process","Void result"))))))))))
A7: Aspect 3. Capacity, capability and confidence Shaping provision from all sources (including market provision, social procurement, VCSE, asset-based work, workforce, community etc) so that people have access to what they need to live their lives well | D7: =(IF(C7=0,"Awaiting value",(IF(AND(C7<25,C7>0),"We have identified failures in the process that pose a significant risk",(IF(AND(C7>24,C7<50),"We have identified risks posed to the systems in place and improvement is required/need to be addressed with medium priority",(IF(AND(C7>49,C7<75),"We have identified no immediate risk is posed to the systems in place, however several shortfalls will need to be addressed with low priority",(IF(C7>74,"We have identified that very good/excellent systems are in place and that no risk has been identified in this process","Void result")))))))))) | E7: =IF(AND(F7>50,F7>F8),"Preferred approach","") | G7: =(IF(F7=0,"Awaiting value",(IF(AND(F7<25,F7>0),"We have identified failures in the process that pose a significant risk",(IF(AND(F7>24,F7<50),"We have identified risks posed to the systems in place and improvement is required/need to be addressed with medium priority",(IF(AND(F7>49,F7<75),"We have identified no immediate risk is posed to the systems in place, however several shortfalls will need to be addressed with low priority",(IF(F7>74,"We have identified that very good/excellent systems are in place and that no risk has been identified in this process","Void result"))))))))))
A8: Aspect 4. User and outcome centred Citizens are in charge of their own care, and their assessment of whether they got what they needed is how we measure our success | D8: =(IF(C8=0,"Awaiting value",(IF(AND(C8<25,C8>0),"We have identified failures in the process that pose a significant risk",(IF(AND(C8>24,C8<50),"We have identified risks posed to the systems in place and improvement is required/need to be addressed with medium priority",(IF(AND(C8>49,C8<75),"We have identified no immediate risk is posed to the systems in place, however several shortfalls will need to be addressed with low priority",(IF(C8>74,"We have identified that very good/excellent systems are in place and that no risk has been identified in this process","Void result")))))))))) | E8: =IF(AND(F8>50,F8>F9),"Preferred approach","") | G8: =(IF(F8=0,"Awaiting value",(IF(AND(F8<25,F8>0),"We have identified failures in the process that pose a significant risk",(IF(AND(F8>24,F8<50),"We have identified risks posed to the systems in place and improvement is required/need to be addressed with medium priority",(IF(AND(F8>49,F8<75),"We have identified no immediate risk is posed to the systems in place, however several shortfalls will need to be addressed with low priority",(IF(F8>74,"We have identified that very good/excellent systems are in place and that no risk has been identified in this process","Void result"))))))))))
A9: Aspect 5. Information, insight and innovation A commissioning aspect that emphasises commissioning innovation and creativity, based on solid information, insight | D9: =(IF(C9=0,"Awaiting value",(IF(AND(C9<25,C9>0),"We have identified failures in the process that pose a significant risk",(IF(AND(C9>24,C9<50),"We have identified risks posed to the systems in place and improvement is required/need to be addressed with medium priority",(IF(AND(C9>49,C9<75),"We have identified no immediate risk is posed to the systems in place, however several shortfalls will need to be addressed with low priority",(IF(C9>74,"We have identified that very good/excellent systems are in place and that no risk has been identified in this process","Void result")))))))))) | E9: =IF(AND(F9>50,F9>F10),"Preferred approach","") | G9: =(IF(F9=0,"Awaiting value",(IF(AND(F9<25,F9>0),"We have identified failures in the process that pose a significant risk",(IF(AND(F9>24,F9<50),"We have identified risks posed to the systems in place and improvement is required/need to be addressed with medium priority",(IF(AND(F9>49,F9<75),"We have identified no immediate risk is posed to the systems in place, however several shortfalls will need to be addressed with low priority",(IF(F9>74,"We have identified that very good/excellent systems are in place and that no risk has been identified in this process","Void result"))))))))))
A10: Aspect 6. Managing the policy and compliance landscape Meeting, interpreting, and actively shaping the policy and legal requirements that we have to work within | D10: =(IF(C10=0,"Awaiting value",(IF(AND(C10<25,C10>0),"We have identified failures in the process that pose a significant risk",(IF(AND(C10>24,C10<50),"We have identified risks posed to the systems in place and improvement is required/need to be addressed with medium priority",(IF(AND(C10>49,C10<75),"We have identified no immediate risk is posed to the systems in place, however several shortfalls will need to be addressed with low priority",(IF(C10>74,"We have identified that very good/excellent systems are in place and that no risk has been identified in this process","Void result")))))))))) | E10: =IF(AND(F10>50,F10>F11),"Preferred approach","") | G10: =(IF(F10=0,"Awaiting value",(IF(AND(F10<25,F10>0),"We have identified failures in the process that pose a significant risk",(IF(AND(F10>24,F10<50),"We have identified risks posed to the systems in place and improvement is required/need to be addressed with medium priority",(IF(AND(F10>49,F10<75),"We have identified no immediate risk is posed to the systems in place, however several shortfalls will need to be addressed with low priority",(IF(F10>74,"We have identified that very good/excellent systems are in place and that no risk has been identified in this process","Void result"))))))))))
A11: Aspect 7. Commissioning process Technically excellent and highly professional commissioning mechanisms, including competition, collaboration, commercials, clarity of contracting, and continual improvement as well as well-judged introduction of new approaches | D11: =(IF(C11=0,"Awaiting value",(IF(AND(C11<25,C11>0),"We have identified failures in the process that pose a significant risk",(IF(AND(C11>24,C11<50),"We have identified risks posed to the systems in place and improvement is required/need to be addressed with medium priority",(IF(AND(C11>49,C11<75),"We have identified no immediate risk is posed to the systems in place, however several shortfalls will need to be addressed with low priority",(IF(C11>74,"We have identified that very good/excellent systems are in place and that no risk has been identified in this process","Void result")))))))))) | E11: =IF(AND(F11>50,F11>F12),"Preferred approach","") | G11: =(IF(F11=0,"Awaiting value",(IF(AND(F11<25,F11>0),"We have identified failures in the process that pose a significant risk",(IF(AND(F11>24,F11<50),"We have identified risks posed to the systems in place and improvement is required/need to be addressed with medium priority",(IF(AND(F11>49,F11<75),"We have identified no immediate risk is posed to the systems in place, however several shortfalls will need to be addressed with low priority",(IF(F11>74,"We have identified that very good/excellent systems are in place and that no risk has been identified in this process","Void result"))))))))))
A12: Aspect 8. Models and tactics Design of delivery models that are fit for purpose, effective, and innovative, based on real attention to how services are structured and delivered | D12: =(IF(C12=0,"Awaiting value",(IF(AND(C12<25,C12>0),"We have identified failures in the process that pose a significant risk",(IF(AND(C12>24,C12<50),"We have identified risks posed to the systems in place and improvement is required/need to be addressed with medium priority",(IF(AND(C12>49,C12<75),"We have identified no immediate risk is posed to the systems in place, however several shortfalls will need to be addressed with low priority",(IF(C12>74,"We have identified that very good/excellent systems are in place and that no risk has been identified in this process","Void result")))))))))) | E12: =IF(AND(F12>50,F12>F13),"Preferred approach","") | G12: =(IF(F12=0,"Awaiting value",(IF(AND(F12<25,F12>0),"We have identified failures in the process that pose a significant risk",(IF(AND(F12>24,F12<50),"We have identified risks posed to the systems in place and improvement is required/need to be addressed with medium priority",(IF(AND(F12>49,F12<75),"We have identified no immediate risk is posed to the systems in place, however several shortfalls will need to be addressed with low priority",(IF(F12>74,"We have identified that very good/excellent systems are in place and that no risk has been identified in this process","Void result"))))))))))

Sheet Step 3 Methodology 
A1: Step 3 - Methodology - Self-assessment against the 8 commissioning aspects
A2: Return to Contents
A4: Suggested Methodology for the Self-assessment workshop
A5: This self-assessment considers eight aspects of commissioning. There is a worksheet for each commissioning aspect. Each of the following eight worksheets is structured to be used in the same way. You will see the aspect name on the tab at the bottom and also at the top of the worksheet. Discussion is key to gaining insight about each question. You can nominate a scribe to record your insights and observations and to record your scores. You may find it useful to follow the worksheets as individuals. You may choose to make your own notes on your own copy of the worksheets, to aid discussion. Pre-reading materials are available for each commissioning aspect and links are included throughout the worksheets. The eight commissioning aspects are as follows: | B5: Link to pre-reading Pre-reading for Commissioning Aspects 1-8
A6: Aspect 1. Whole system design
A7: Aspect 2. Relationships and organisation across the system
A8: Aspect 3. Capacity, capability and confidence
A9: Aspect 4. User and outcome centred
A10: Aspect 5. Information, insight and innovation
A11: Aspect 6. Managing the policy and compliance landscape
A12: Aspect 7. Commissioning process
A13: Aspect 8. Models and tactics
A15: For each commissioning aspect, in groups or pairs, work through each of the stages below and record your observations / insight as suggested on the relevant worksheet.
A16: Part A. Please discuss and comment on the case studies and your thoughts on the dynamic tensions and equalities and equity considerations for this aspect in your place. Enter your comments in the boxes provided.
A17: Part B. Work through and discuss each of the self-assessment statements in the grid for the commissioning aspect. Record your observations from the discussion in column B.
A18: Part C. Revisit each of the statements in the grid the commissioning aspect and, using the slider, assign a score from 1 - 100 (where 100 is best performance) relating to how well you feel that you are achieving what is set out in the statement.
... A21: Part F. After you have completed all of the above, consider all the factors you have considered from the pre-reading materials, your discussion, place-based factors and the statements for the aspect, and identify what you feel to be the 3 most enabling and 3 most constraining factors that impact on this commissioning aspect. Record these in the boxes provided. These constraining and enabling factors will be used to support your action planning for your Commissioning Development Plan (see worksheet for Step 5).

Sheet Whole system design
A1: Step 3 Aspect 1
A2: Return to Contents
A3: Whole system design
A4: Working as one place to create a context that is optimally set up for wellbeing, mutual support, and care
A5: Pre reading : Before completing this worksheet - read the document 'Whole system design' - which summarises this aspect and includes the case studies, dynamic tensions and equalities issues | C5: Link to pre-reading Pre-reading for Commissioning Aspects 1-8
A6: Part A - having read the pre-reading material, discuss the case studies, dynamic tensions and equalities and equity considerations.
A7: It is recommended that you keep your discussions in mind when reviewing the statements below
A8: High and low scoring case studies | B8: Please enter your comments
A9: What are your immediate thoughts relating to the high or low scoring councils in the case studies for this apsect?
A10: How are you handling these dynamic tensions?
A11: The tension between effective working within silos, development and optimal use of expertise, and working flexibly as a whole system
A12: The tension between prevention work and the need to respond to more acute demand
A13: How are you ensuring equality and equity?
A14: Whole system design is likely to highlight issues of inequality and inequity in conditions and access to services. Care should be taken to include marginalised voices in governance, leadership, and delivery, and to resist picking ‘quick wins’ which may further exclude marginalised and under-served groups.
A16: Part B,C,D - discuss each of the statements below and record your observation, score each, select your weighting
A17: Statements | B17: Please record your observations from dialogue | C17: How well do we think we are doing - on a scale of 0 (worst) to 100 (Best)? | D17: Score assigned | E17: Your weighting within this aspect | F17: Quick assessment | G17: Weighting | H17: Score
A18: We are working well as as a whole, place-based system | F18: =(IF(D18=0,"Awaiting value",(IF(AND(D18<25,D18>0),"We have identified failures in the process that pose a significant risk",(IF(AND(D18>24,D18<50),"We have identified risks posed to the systems in place and improvement is required/need to be addressed with medium priority",(IF(AND(D18>49,D18<75),"We have identified no immediate risk is posed to the systems in place, however several shortfalls will need to be addressed with low priority",(IF(D18>74,"We have identified that very good/excellent systems are in place and that no risk has been identified in this process","Void result")))))))))) | G18: =IF(E18=Lists!$A$6,4,(IF(E18=Lists!$A$7,3,(IF(E18=Lists!$A$8,2,(IF(E18=Lists!$A$9,1,""))))))) | H18: =D18*G18
A19: We have a good understanding of need (including unmet need) and capacity as a whole | F19: =(IF(D19=0,"Awaiting value",(IF(AND(D19<25,D19>0),"We have identified failures in the process that pose a significant risk",(IF(AND(D19>24,D19<50),"We have identified risks posed to the systems in place and improvement is required/need to be addressed with medium priority",(IF(AND(D19>49,D19<75),"We have identified no immediate risk is posed to the systems in place, however several shortfalls will need to be addressed with low priority",(IF(D19>74,"We have identified that very good/excellent systems are in place and that no risk has been identified in this process","Void result")))))))))) | G19: =IF(E19=Lists!$A$6,4,(IF(E19=Lists!$A$7,3,(IF(E19=Lists!$A$8,2,(IF(E19=Lists!$A$9,1,""))))))) | H19: =D19*G19
A20: We have a good understanding of what is really shaping need and demand in our place | F20: =(IF(D20=0,"Awaiting value",(IF(AND(D20<25,D20>0),"We have identified failures in the process that pose a significant risk",(IF(AND(D20>24,D20<50),"We have identified risks posed to the systems in place and improvement is required/need to be addressed with medium priority",(IF(AND(D20>49,D20<75),"We have identified no immediate risk is posed to the systems in place, however several shortfalls will need to be addressed with low priority",(IF(D20>74,"We have identified that very good/excellent systems are in place and that no risk has been identified in this process","Void result")))))))))) | G20: =IF(E20=Lists!$A$6,4,(IF(E20=Lists!$A$7,3,(IF(E20=Lists!$A$8,2,(IF(E20=Lists!$A$9,1,""))))))) | H20: =D20*G20
A21: We have a good understanding of what really matters to citizens, and local views about wellbeing and care | F21: =(IF(D21=0,"Awaiting value",(IF(AND(D21<25,D21>0),"We have identified failures in the process that pose a significant risk",(IF(AND(D21>24,D21<50),"We have identified risks posed to the systems in place and improvement is required/need to be addressed with medium priority",(IF(AND(D21>49,D21<75),"We have identified no immediate risk is posed to the systems in place, however several shortfalls will need to be addressed with low priority",(IF(D21>74,"We have identified that very good/excellent systems are in place and that no risk has been identified in this process","Void result")))))))))) | G21: =IF(E21=Lists!$A$6,4,(IF(E21=Lists!$A$7,3,(IF(E21=Lists!$A$8,2,(IF(E21=Lists!$A$9,1,""))))))) | H21: =D21*G21
A22: The whole system is coherent, and we have a plan as a whole system | F22: =(IF(D22=0,"Awaiting value",(IF(AND(D22<25,D22>0),"We have identified failures in the process that pose a significant risk",(IF(AND(D22>24,D22<50),"We have identified risks posed to the systems in place and improvement is required/need to be addressed with medium priority",(IF(AND(D22>49,D22<75),"We have identified no immediate risk is posed to the systems in place, however several shortfalls will need to be addressed with low priority",(IF(D22>74,"We have identified that very good/excellent systems are in place and that no risk has been identified in this process","Void result")))))))))) | G22: =IF(E22=Lists!$A$6,4,(IF(E22=Lists!$A$7,3,(IF(E22=Lists!$A$8,2,(IF(E22=Lists!$A$9,1,""))))))) | H22: =D22*G22
A23: We put social and environmental justice at the heart of the system | F23: =(IF(D23=0,"Awaiting value",(IF(AND(D23<25,D23>0),"We have identified failures in the process that pose a significant risk",(IF(AND(D23>24,D23<50),"We have identified risks posed to the systems in place and improvement is required/need to be addressed with medium priority",(IF(AND(D23>49,D23<75),"We have identified no immediate risk is posed to the systems in place, however several shortfalls will need to be addressed with low priority",(IF(D23>74,"We have identified that very good/excellent systems are in place and that no risk has been identified in this process","Void result")))))))))) | G23: =IF(E23=Lists!$A$6,4,(IF(E23=Lists!$A$7,3,(IF(E23=Lists!$A$8,2,(IF(E23=Lists!$A$9,1,""))))))) | H23: =D23*G23
A24: We have successfully shifted the dial to strengths, enabling, prevention, and early intervention | F24: =(IF(D24=0,"Awaiting value",(IF(AND(D24<25,D24>0),"We have identified failures in the process that pose a significant risk",(IF(AND(D24>24,D24<50),"We have identified risks posed to the systems in place and improvement is required/need to be addressed with medium priority",(IF(AND(D24>49,D24<75),"We have identified no immediate risk is posed to the systems in place, however several shortfalls will need to be addressed with low priority",(IF(D24>74,"We have identified that very good/excellent systems are in place and that no risk has been identified in this process","Void result")))))))))) | G24: =IF(E24=Lists!$A$6,4,(IF(E24=Lists!$A$7,3,(IF(E24=Lists!$A$8,2,(IF(E24=Lists!$A$9,1,""))))))) | H24: =D24*G24
A25: We are learning effectively as a whole system | F25: =(IF(D25=0,"Awaiting value",(IF(AND(D25<25,D25>0),"We have identified failures in the process that pose a significant risk",(IF(AND(D25>24,D25<50),"We have identified risks posed to the systems in place and improvement is required/need to be addressed with medium priority",(IF(AND(D25>49,D25<75),"We have identified no immediate risk is posed to the systems in place, however several shortfalls will need to be addressed with low priority",(IF(D25>74,"We have identified that very good/excellent systems are in place and that no risk has been identified in this process","Void result")))))))))) | G25: =IF(E25=Lists!$A$6,4,(IF(E25=Lists!$A$7,3,(IF(E25=Lists!$A$8,2,(IF(E25=Lists!$A$9,1,""))))))) | H25: =D25*G25
A26: We work systematically at a strategic, operational, and individual level | F26: =(IF(D26=0,"Awaiting value",(IF(AND(D26<25,D26>0),"We have identified failures in the process that pose a significant risk",(IF(AND(D26>24,D26<50),"We have identified risks posed to the systems in place and improvement is required/need to be addressed with medium priority",(IF(AND(D26>49,D26<75),"We have identified no immediate risk is posed to the systems in place, however several shortfalls will need to be addressed with low priority",(IF(D26>74,"We have identified that very good/excellent systems are in place and that no risk has been identified in this process","Void result")))))))))) | G26: =IF(E26=Lists!$A$6,4,(IF(E26=Lists!$A$7,3,(IF(E26=Lists!$A$8,2,(IF(E26=Lists!$A$9,1,""))))))) | H26: =D26*G26
A27: We deal well with any pressure to provide standardised vs fit-for-content services (discussion of ‘postcode lotteries’ etc) | F27: =(IF(D27=0,"Awaiting value",(IF(AND(D27<25,D27>0),"We have identified failures in the process that pose a significant risk",(IF(AND(D27>24,D27<50),"We have identified risks posed to the systems in place and improvement is required/need to be addressed with medium priority",(IF(AND(D27>49,D27<75),"We have identified no immediate risk is posed to the systems in place, however several shortfalls will need to be addressed with low priority",(IF(D27>74,"We have identified that very good/excellent systems are in place and that no risk has been identified in this process","Void result")))))))))) | G27: =IF(E27=Lists!$A$6,4,(IF(E27=Lists!$A$7,3,(IF(E27=Lists!$A$8,2,(IF(E27=Lists!$A$9,1,""))))))) | H27: =D27*G27
A28: We have an open mind to reviewing current payment methods so that they work for different models of commissioning (This could include ICS models, or other sub-regional or cross-border models) | F28: =(IF(D28=0,"Awaiting value",(IF(AND(D28<25,D28>0),"We have identified failures in the process that pose a significant risk",(IF(AND(D28>24,D28<50),"We have identified risks posed to the systems in place and improvement is required/need to be addressed with medium priority",(IF(AND(D28>49,D28<75),"We have identified no immediate risk is posed to the systems in place, however several shortfalls will need to be addressed with low priority",(IF(D28>74,"We have identified that very good/excellent systems are in place and that no risk has been identified in this process","Void result")))))))))) | G28: =IF(E28=Lists!$A$6,4,(IF(E28=Lists!$A$7,3,(IF(E28=Lists!$A$8,2,(IF(E28=Lists!$A$9,1,""))))))) | H28: =D28*G28
A29: We have a significant degree of health and care integration, for example within the ICB, HBB, Integrated neighbourhood partnership working. | F29: =(IF(D29=0,"Awaiting value",(IF(AND(D29<25,D29>0),"We have identified failures in the process that pose a significant risk",(IF(AND(D29>24,D29<50),"We have identified risks posed to the systems in place and improvement is required/need to be addressed with medium priority",(IF(AND(D29>49,D29<75),"We have identified no immediate risk is posed to the systems in place, however several shortfalls will need to be addressed with low priority",(IF(D29>74,"We have identified that very good/excellent systems are in place and that no risk has been identified in this process","Void result")))))))))) | G29: =IF(E29=Lists!$A$6,4,(IF(E29=Lists!$A$7,3,(IF(E29=Lists!$A$8,2,(IF(E29=Lists!$A$9,1,""))))))) | H29: =D29*G29
A35: Part E - Review and confirm your overall score
A36: Calculated overall score for this aspect | B36: =(SUM(H18:H29))/(SUM(G18:G29))
A37: Our assessment Your confirmation of the score (Please enter a number between 0 and 100) | C37: =(IF(B37=0,"Awaiting value",(IF(AND(B37<25,B37>0),"We have identified failures in the process that pose a significant risk",(IF(AND(B37>24,B37<50),"We have identified risks posed to the systems in place and improvement is required/need to be addressed with medium priority",(IF(AND(B37>49,B37<75),"We have identified no immediate risk is posed to the systems in place, however several shortfalls will need to be addressed with low priority",(IF(B37>74,"We have identified that very good/excellent systems are in place and that no risk has been identified in this process","Void result"))))))))))
A39: Part F - Identify enabling and constraining factors
A40: What factors most constrain and most enable your room to manoeuvre as commissioners?
A41: Part F - to be completed as a final stage following discussion on this aspect. In your discussion think about any factors that you feel will enable or constrain your work with particular reference to the impact on this commissioning aspect. Please detail below the 3 most significant enabling and 3 most significant constraining factors. For Aspect 1. Whole System Design, you may also want to consider the place-based factors in the pre-reading materials for this aspect (see also final worksheet for a list of place-based factors - you may also be aware of others).
A42: Most enabling factors | B42: Most constraining factors
A43: 1 | B43: 1
A44: 2 | B44: 2
A45: 3 | B45: 3
A47: Link to place-based factors

Sheet Relationships & Organisation
A1: Step 3 Aspect 2
A2: Return to Contents
A3: Relationships and organisation across the system
A4: A place where everyone is focused on achieving shared goals, together, and incentives and funding streams are aligned
A5: Pre reading : Before completing this worksheet - read the document 'Relationships and organisation across the system ' - which summarises this aspect and includes the case studies, dynamic tensions and equalities issues | C5: Link to pre-reading Pre-reading for Commissioning Aspects 1-8
A6: Part A - having read the pre-reading material, discuss the case studies, dynamic tensions and equalities and equity considerations.
A7: It is recommended that you keep your discussions in mind when reviewing the statements below
A8: High and low scoring case studies | B8: Please enter your comments
A9: What are your immediate thoughts relating to the high or low scoring councils in the case studies for this apsect?
A10: How are you handling these dynamic tensions?
A11: The potential tensions when local government politicians who set the direction of local government activity also act as NHS non-executive directors
A12: The tension between the centralised, national direction of the NHS and local direction/mandate of local government
A13: How are you ensuring equality and equity?
A14: Good quality relationships allow the challenging of issues to be done safely. They need to be built for the long-term and embedded, for inequality to be challenged and overcome. Relationship-building must consciously include formerly-excluded groups, if it is to be valuable. Commissioners and systems need to be aware of the risk that a focus on building relationships can reduce the willingness to challenge norms and problematic issues.
A16: Part B,C,D - discuss each of the statements below and record your observation, score each, select your weighting
A17: Statements | B17: Please record your observations from dialogue | C17: How well do we think we are doing - on a scale of 0 (worst) to 100 (Best)? | D17: Score assigned | E17: Your weighting within this aspect | F17: Quick assessment | G17: Weighting | H17: Score
A18: Our partnerships and governance are robust and effective | F18: =(IF(D18=0,"Awaiting value",(IF(AND(D18<25,D18>0),"We have identified failures in the process that pose a significant risk",(IF(AND(D18>24,D18<50),"We have identified risks posed to the systems in place and improvement is required/need to be addressed with medium priority",(IF(AND(D18>49,D18<75),"We have identified no immediate risk is posed to the systems in place, however several shortfalls will need to be addressed with low priority",(IF(D18>74,"We have identified that very good/excellent systems are in place and that no risk has been identified in this process","Void result")))))))))) | G18: =IF(E18=Lists!$A$6,4,(IF(E18=Lists!$A$7,3,(IF(E18=Lists!$A$8,2,(IF(E18=Lists!$A$9,1,""))))))) | H18: =D18*G18
A19: We do not feel constrained by any local politics. Local politics, including politics within or between agencies, work to positive effect. | F19: =(IF(D19=0,"Awaiting value",(IF(AND(D19<25,D19>0),"We have identified failures in the process that pose a significant risk",(IF(AND(D19>24,D19<50),"We have identified risks posed to the systems in place and improvement is required/need to be addressed with medium priority",(IF(AND(D19>49,D19<75),"We have identified no immediate risk is posed to the systems in place, however several shortfalls will need to be addressed with low priority",(IF(D19>74,"We have identified that very good/excellent systems are in place and that no risk has been identified in this process","Void result")))))))))) | G19: =IF(E19=Lists!$A$6,4,(IF(E19=Lists!$A$7,3,(IF(E19=Lists!$A$8,2,(IF(E19=Lists!$A$9,1,""))))))) | H19: =D19*G19
A20: All relevant organisations and places have a shared understanding of commissioning, and give commissioning the same value | F20: =(IF(D20=0,"Awaiting value",(IF(AND(D20<25,D20>0),"We have identified failures in the process that pose a significant risk",(IF(AND(D20>24,D20<50),"We have identified risks posed to the systems in place and improvement is required/need to be addressed with medium priority",(IF(AND(D20>49,D20<75),"We have identified no immediate risk is posed to the systems in place, however several shortfalls will need to be addressed with low priority",(IF(D20>74,"We have identified that very good/excellent systems are in place and that no risk has been identified in this process","Void result")))))))))) | G20: =IF(E20=Lists!$A$6,4,(IF(E20=Lists!$A$7,3,(IF(E20=Lists!$A$8,2,(IF(E20=Lists!$A$9,1,""))))))) | H20: =D20*G20
A21: We can address any knock-on effects of our setup and our decisions on the relationships and organisation in place | F21: =(IF(D21=0,"Awaiting value",(IF(AND(D21<25,D21>0),"We have identified failures in the process that pose a significant risk",(IF(AND(D21>24,D21<50),"We have identified risks posed to the systems in place and improvement is required/need to be addressed with medium priority",(IF(AND(D21>49,D21<75),"We have identified no immediate risk is posed to the systems in place, however several shortfalls will need to be addressed with low priority",(IF(D21>74,"We have identified that very good/excellent systems are in place and that no risk has been identified in this process","Void result")))))))))) | G21: =IF(E21=Lists!$A$6,4,(IF(E21=Lists!$A$7,3,(IF(E21=Lists!$A$8,2,(IF(E21=Lists!$A$9,1,""))))))) | H21: =D21*G21
A22: We have effective collaboration, partnership and challenge across all key groups: commissioners, providers, politicians, communities | F22: =(IF(D22=0,"Awaiting value",(IF(AND(D22<25,D22>0),"We have identified failures in the process that pose a significant risk",(IF(AND(D22>24,D22<50),"We have identified risks posed to the systems in place and improvement is required/need to be addressed with medium priority",(IF(AND(D22>49,D22<75),"We have identified no immediate risk is posed to the systems in place, however several shortfalls will need to be addressed with low priority",(IF(D22>74,"We have identified that very good/excellent systems are in place and that no risk has been identified in this process","Void result")))))))))) | G22: =IF(E22=Lists!$A$6,4,(IF(E22=Lists!$A$7,3,(IF(E22=Lists!$A$8,2,(IF(E22=Lists!$A$9,1,""))))))) | H22: =D22*G22
A23: All stakeholders are engaged with open communication | F23: =(IF(D23=0,"Awaiting value",(IF(AND(D23<25,D23>0),"We have identified failures in the process that pose a significant risk",(IF(AND(D23>24,D23<50),"We have identified risks posed to the systems in place and improvement is required/need to be addressed with medium priority",(IF(AND(D23>49,D23<75),"We have identified no immediate risk is posed to the systems in place, however several shortfalls will need to be addressed with low priority",(IF(D23>74,"We have identified that very good/excellent systems are in place and that no risk has been identified in this process","Void result")))))))))) | G23: =IF(E23=Lists!$A$6,4,(IF(E23=Lists!$A$7,3,(IF(E23=Lists!$A$8,2,(IF(E23=Lists!$A$9,1,""))))))) | H23: =D23*G23
A24: We take positive action to learn about and work on our relationships, including learning from the past | F24: =(IF(D24=0,"Awaiting value",(IF(AND(D24<25,D24>0),"We have identified failures in the process that pose a significant risk",(IF(AND(D24>24,D24<50),"We have identified risks posed to the systems in place and improvement is required/need to be addressed with medium priority",(IF(AND(D24>49,D24<75),"We have identified no immediate risk is posed to the systems in place, however several shortfalls will need to be addressed with low priority",(IF(D24>74,"We have identified that very good/excellent systems are in place and that no risk has been identified in this process","Void result")))))))))) | G24: =IF(E24=Lists!$A$6,4,(IF(E24=Lists!$A$7,3,(IF(E24=Lists!$A$8,2,(IF(E24=Lists!$A$9,1,""))))))) | H24: =D24*G24
A25: We optimise our results by responding appropriately according to the maturity level of our relationships | F25: =(IF(D25=0,"Awaiting value",(IF(AND(D25<25,D25>0),"We have identified failures in the process that pose a significant risk",(IF(AND(D25>24,D25<50),"We have identified risks posed to the systems in place and improvement is required/need to be addressed with medium priority",(IF(AND(D25>49,D25<75),"We have identified no immediate risk is posed to the systems in place, however several shortfalls will need to be addressed with low priority",(IF(D25>74,"We have identified that very good/excellent systems are in place and that no risk has been identified in this process","Void result")))))))))) | G25: =IF(E25=Lists!$A$6,4,(IF(E25=Lists!$A$7,3,(IF(E25=Lists!$A$8,2,(IF(E25=Lists!$A$9,1,""))))))) | H25: =D25*G25
A26: We are enabled, rather than limited, by the ethics, values, and culture of our organisation and the people in it? | F26: =(IF(D26=0,"Awaiting value",(IF(AND(D26<25,D26>0),"We have identified failures in the process that pose a significant risk",(IF(AND(D26>24,D26<50),"We have identified risks posed to the systems in place and improvement is required/need to be addressed with medium priority",(IF(AND(D26>49,D26<75),"We have identified no immediate risk is posed to the systems in place, however several shortfalls will need to be addressed with low priority",(IF(D26>74,"We have identified that very good/excellent systems are in place and that no risk has been identified in this process","Void result")))))))))) | G26: =IF(E26=Lists!$A$6,4,(IF(E26=Lists!$A$7,3,(IF(E26=Lists!$A$8,2,(IF(E26=Lists!$A$9,1,""))))))) | H26: =D26*G26
A27: Citizens and community are trusted and engaged across the system | F27: =(IF(D27=0,"Awaiting value",(IF(AND(D27<25,D27>0),"We have identified failures in the process that pose a significant risk",(IF(AND(D27>24,D27<50),"We have identified risks posed to the systems in place and improvement is required/need to be addressed with medium priority",(IF(AND(D27>49,D27<75),"We have identified no immediate risk is posed to the systems in place, however several shortfalls will need to be addressed with low priority",(IF(D27>74,"We have identified that very good/excellent systems are in place and that no risk has been identified in this process","Void result")))))))))) | G27: =IF(E27=Lists!$A$6,4,(IF(E27=Lists!$A$7,3,(IF(E27=Lists!$A$8,2,(IF(E27=Lists!$A$9,1,""))))))) | H27: =D27*G27
A28: We are collectively aware of and dealing effectively with the incentives driven by different funding and performance schemes | F28: =(IF(D28=0,"Awaiting value",(IF(AND(D28<25,D28>0),"We have identified failures in the process that pose a significant risk",(IF(AND(D28>24,D28<50),"We have identified risks posed to the systems in place and improvement is required/need to be addressed with medium priority",(IF(AND(D28>49,D28<75),"We have identified no immediate risk is posed to the systems in place, however several shortfalls will need to be addressed with low priority",(IF(D28>74,"We have identified that very good/excellent systems are in place and that no risk has been identified in this process","Void result")))))))))) | G28: =IF(E28=Lists!$A$6,4,(IF(E28=Lists!$A$7,3,(IF(E28=Lists!$A$8,2,(IF(E28=Lists!$A$9,1,""))))))) | H28: =D28*G28
A29: We can describe the culture of the organisations working together as open, honest, trusting and constructive, rather than judgemental and punitive, or avoidant. | F29: =(IF(D29=0,"Awaiting value",(IF(AND(D29<25,D29>0),"We have identified failures in the process that pose a significant risk",(IF(AND(D29>24,D29<50),"We have identified risks posed to the systems in place and improvement is required/need to be addressed with medium priority",(IF(AND(D29>49,D29<75),"We have identified no immediate risk is posed to the systems in place, however several shortfalls will need to be addressed with low priority",(IF(D29>74,"We have identified that very good/excellent systems are in place and that no risk has been identified in this process","Void result")))))))))) | G29: =IF(E29=Lists!$A$6,4,(IF(E29=Lists!$A$7,3,(IF(E29=Lists!$A$8,2,(IF(E29=Lists!$A$9,1,""))))))) | H29: =D29*G29
A35: Part E - Review and confirm your overall score
A36: Calculated overall notional score for this aspect | B36: =(SUM(H18:H29))/(SUM(G18:G29))
A37: Our assessment Your confirmation of the score (Please enter a number between 0 and 100) | C37: =(IF(B37=0,"Awaiting value",(IF(AND(B37<25,B37>0),"We have identified failures in the process that pose a significant risk",(IF(AND(B37>24,B37<50),"We have identified risks posed to the systems in place and improvement is required/need to be addressed with medium priority",(IF(AND(B37>49,B37<75),"We have identified no immediate risk is posed to the systems in place, however several shortfalls will need to be addressed with low priority",(IF(B37>74,"We have identified that very good/excellent systems are in place and that no risk has been identified in this process","Void result"))))))))))
A39: Part F - Identify enabling and constraining factors
A40: What factors most constrain and most enable your room to manoeuvre as commissioners?
A41: Part F - to be completed as a final stage following discussion on this aspect. In your discussion think about any factors that you feel will enable or constrain your work with particular reference to the impact on this commissioning aspect. Please detail below the 3 most significant enabling and 3 most significant constraining factors.
A42: Most enabling factors | B42: Most constraining factors
A43: 1 | B43: 1
A44: 2 | B44: 2
A45: 3 | B45: 3

Sheet Capacity & Capability
A1: Step 3 Aspect 3
A2: Return to Contents
A3: Capacity, capability and confidence
A4: Shaping provision from all sources (including market provision, social procurement, VCSE, asset-based work, workforce, community etc) so that people have access to what they need to live their lives well
A5: Pre reading : Before completing this worksheet - read the document 'Capacity, Capability and Confidence' - which summarises this aspect and includes the case studies, dynamic tensions and equalities issues | C5: Link to pre-reading Pre-reading for Commissioning Aspects 1-8
A6: Part A - having read the pre-reading material, discuss the case studies, dynamic tensions and equalities and equity considerations.
A7: It is recommended that you keep your discussions in mind when reviewing the statements below
A8: High and low scoring case studies | B8: Please enter your comments
A9: What are your immediate thoughts relating to the high or low scoring councils in the case studies for this apsect?
A10: How are you handling these dynamic tensions?
A11: The tension between fitting service provision to our own professional categories and self-direction by citizens
A12: The tension between worker pay (supporting economic wellbeing, recycling into the local economy) and the cost of services
A13: The tension between a focus on deficits and service provision and focus on strengths, assets, and community
A14: How are you ensuring equality and equity?
A15: It is important to take a critical perspective regarding the impact of deprivation, exclusion, and intersectional factors on the capability of people to provide their own support, and not make assumptions about this capability. Additionally, some people who are otherwise in highly privileged groups will not necessarily be privileged (in terms, for example, of close and engaged social networks) when it comes to their ability to be supported in their home and community. At the same time, traditional service provision is likely to be biased and have built-in assumptions about needs and how they should be met, which will impact different groups in different ways. The same suspension of assumption and genuine exploration needs to apply to groups and organisations providing support, which may have very different perspectives, strengths, and weaknesses depending on their context.
A16: Part B,C,D - discuss each of the statements below and record your observation, score each, select your weighting
A17: Statements | B17: Please record your observations from dialogue | C17: How well do we think we are doing - on a scale of 0 (worst) to 100 (Best)? | D17: Score assigned | E17: Your weighting within this aspect | F17: Quick assessment | G17: Weighting | H17: Score
A18: We are effective at building the capability of people to support themselves | F18: =(IF(D18=0,"Awaiting value",(IF(AND(D18<25,D18>0),"We have identified failures in the process that pose a significant risk",(IF(AND(D18>24,D18<50),"We have identified risks posed to the systems in place and improvement is required/need to be addressed with medium priority",(IF(AND(D18>49,D18<75),"We have identified no immediate risk is posed to the systems in place, however several shortfalls will need to be addressed with low priority",(IF(D18>74,"We have identified that very good/excellent systems are in place and that no risk has been identified in this process","Void result")))))))))) | G18: =IF(E18=Lists!$A$6,4,(IF(E18=Lists!$A$7,3,(IF(E18=Lists!$A$8,2,(IF(E18=Lists!$A$9,1,""))))))) | H18: =D18*G18
A19: We are effective at supporting carers, family, neighbours, place and community to support people
A20: We are effective at building capacity and capability in providers from all sectors and sources (voluntary, community, faith-based, social enterprise, private, and public), including the use of funding models to support this
A21: We are consistently taking an enabling, strengths-based approach and using asset-mapping | F21: =(IF(D21=0,"Awaiting value",(IF(AND(D21<25,D21>0),"We have identified failures in the process that pose a significant risk",(IF(AND(D21>24,D21<50),"We have identified risks posed to the systems in place and improvement is required/need to be addressed with medium priority",(IF(AND(D21>49,D21<75),"We have identified no immediate risk is posed to the systems in place, however several shortfalls will need to be addressed with low priority",(IF(D21>74,"We have identified that very good/excellent systems are in place and that no risk has been identified in this process","Void result")))))))))) | G21: =IF(E21=Lists!$A$6,4,(IF(E21=Lists!$A$7,3,(IF(E21=Lists!$A$8,2,(IF(E21=Lists!$A$9,1,""))))))) | H21: =D21*G21
A22: We engage with providers as partners and collaborate with them | F22: =(IF(D22=0,"Awaiting value",(IF(AND(D22<25,D22>0),"We have identified failures in the process that pose a significant risk",(IF(AND(D22>24,D22<50),"We have identified risks posed to the systems in place and improvement is required/need to be addressed with medium priority",(IF(AND(D22>49,D22<75),"We have identified no immediate risk is posed to the systems in place, however several shortfalls will need to be addressed with low priority",(IF(D22>74,"We have identified that very good/excellent systems are in place and that no risk has been identified in this process","Void result")))))))))) | G22: =IF(E22=Lists!$A$6,4,(IF(E22=Lists!$A$7,3,(IF(E22=Lists!$A$8,2,(IF(E22=Lists!$A$9,1,""))))))) | H22: =D22*G22
A23: We effectively balance collaboration and competition | F23: =(IF(D23=0,"Awaiting value",(IF(AND(D23<25,D23>0),"We have identified failures in the process that pose a significant risk",(IF(AND(D23>24,D23<50),"We have identified risks posed to the systems in place and improvement is required/need to be addressed with medium priority",(IF(AND(D23>49,D23<75),"We have identified no immediate risk is posed to the systems in place, however several shortfalls will need to be addressed with low priority",(IF(D23>74,"We have identified that very good/excellent systems are in place and that no risk has been identified in this process","Void result")))))))))) | G23: =IF(E23=Lists!$A$6,4,(IF(E23=Lists!$A$7,3,(IF(E23=Lists!$A$8,2,(IF(E23=Lists!$A$9,1,""))))))) | H23: =D23*G23
A24: We take an effective co-commissioning approach with others to build markets and unlock potential | F24: =(IF(D24=0,"Awaiting value",(IF(AND(D24<25,D24>0),"We have identified failures in the process that pose a significant risk",(IF(AND(D24>24,D24<50),"We have identified risks posed to the systems in place and improvement is required/need to be addressed with medium priority",(IF(AND(D24>49,D24<75),"We have identified no immediate risk is posed to the systems in place, however several shortfalls will need to be addressed with low priority",(IF(D24>74,"We have identified that very good/excellent systems are in place and that no risk has been identified in this process","Void result")))))))))) | G24: =IF(E24=Lists!$A$6,4,(IF(E24=Lists!$A$7,3,(IF(E24=Lists!$A$8,2,(IF(E24=Lists!$A$9,1,""))))))) | H24: =D24*G24
A25: We take an asset-based commissioning approach | F25: =(IF(D25=0,"Awaiting value",(IF(AND(D25<25,D25>0),"We have identified failures in the process that pose a significant risk",(IF(AND(D25>24,D25<50),"We have identified risks posed to the systems in place and improvement is required/need to be addressed with medium priority",(IF(AND(D25>49,D25<75),"We have identified no immediate risk is posed to the systems in place, however several shortfalls will need to be addressed with low priority",(IF(D25>74,"We have identified that very good/excellent systems are in place and that no risk has been identified in this process","Void result")))))))))) | G25: =IF(E25=Lists!$A$6,4,(IF(E25=Lists!$A$7,3,(IF(E25=Lists!$A$8,2,(IF(E25=Lists!$A$9,1,""))))))) | H25: =D25*G25
A26: We have strong market insight (including an understanding of current delivery models, strengths, weaknesses, costs, pressures, satisfaction rates and quality of care), market making and market management capability, which is protected from other pressures | F26: =(IF(D26=0,"Awaiting value",(IF(AND(D26<25,D26>0),"We have identified failures in the process that pose a significant risk",(IF(AND(D26>24,D26<50),"We have identified risks posed to the systems in place and improvement is required/need to be addressed with medium priority",(IF(AND(D26>49,D26<75),"We have identified no immediate risk is posed to the systems in place, however several shortfalls will need to be addressed with low priority",(IF(D26>74,"We have identified that very good/excellent systems are in place and that no risk has been identified in this process","Void result")))))))))) | G26: =IF(E26=Lists!$A$6,4,(IF(E26=Lists!$A$7,3,(IF(E26=Lists!$A$8,2,(IF(E26=Lists!$A$9,1,""))))))) | H26: =D26*G26
A27: We are providing funding and support that takes a long-term view and looks at impacts including social justice | F27: =(IF(D27=0,"Awaiting value",(IF(AND(D27<25,D27>0),"We have identified failures in the process that pose a significant risk",(IF(AND(D27>24,D27<50),"We have identified risks posed to the systems in place and improvement is required/need to be addressed with medium priority",(IF(AND(D27>49,D27<75),"We have identified no immediate risk is posed to the systems in place, however several shortfalls will need to be addressed with low priority",(IF(D27>74,"We have identified that very good/excellent systems are in place and that no risk has been identified in this process","Void result")))))))))) | G27: =IF(E27=Lists!$A$6,4,(IF(E27=Lists!$A$7,3,(IF(E27=Lists!$A$8,2,(IF(E27=Lists!$A$9,1,""))))))) | H27: =D27*G27
A28: We take into account the local economic impact of our spending | F28: =(IF(D28=0,"Awaiting value",(IF(AND(D28<25,D28>0),"We have identified failures in the process that pose a significant risk",(IF(AND(D28>24,D28<50),"We have identified risks posed to the systems in place and improvement is required/need to be addressed with medium priority",(IF(AND(D28>49,D28<75),"We have identified no immediate risk is posed to the systems in place, however several shortfalls will need to be addressed with low priority",(IF(D28>74,"We have identified that very good/excellent systems are in place and that no risk has been identified in this process","Void result")))))))))) | G28: =IF(E28=Lists!$A$6,4,(IF(E28=Lists!$A$7,3,(IF(E28=Lists!$A$8,2,(IF(E28=Lists!$A$9,1,""))))))) | H28: =D28*G28
A29: We have a good understanding of current workforce capacity, capability and needs across all employers, and we are actively supporting ongoing workforce development | F29: =(IF(D29=0,"Awaiting value",(IF(AND(D29<25,D29>0),"We have identified failures in the process that pose a significant risk",(IF(AND(D29>24,D29<50),"We have identified risks posed to the systems in place and improvement is required/need to be addressed with medium priority",(IF(AND(D29>49,D29<75),"We have identified no immediate risk is posed to the systems in place, however several shortfalls will need to be addressed with low priority",(IF(D29>74,"We have identified that very good/excellent systems are in place and that no risk has been identified in this process","Void result")))))))))) | G29: =IF(E29=Lists!$A$6,4,(IF(E29=Lists!$A$7,3,(IF(E29=Lists!$A$8,2,(IF(E29=Lists!$A$9,1,""))))))) | H29: =D29*G29
A30: Our community and voluntary sector is well developed and capable | F30: =(IF(D30=0,"Awaiting value",(IF(AND(D30<25,D30>0),"We have identified failures in the process that pose a significant risk",(IF(AND(D30>24,D30<50),"We have identified risks posed to the systems in place and improvement is required/need to be addressed with medium priority",(IF(AND(D30>49,D30<75),"We have identified no immediate risk is posed to the systems in place, however several shortfalls will need to be addressed with low priority",(IF(D30>74,"We have identified that very good/excellent systems are in place and that no risk has been identified in this process","Void result")))))))))) | G30: =IF(E30=Lists!$A$6,4,(IF(E30=Lists!$A$7,3,(IF(E30=Lists!$A$8,2,(IF(E30=Lists!$A$9,1,""))))))) | H30: =D30*G30
A31: Our market is well developed and capable, and focused on a strengths-based approach | F31: =(IF(D31=0,"Awaiting value",(IF(AND(D31<25,D31>0),"We have identified failures in the process that pose a significant risk",(IF(AND(D31>24,D31<50),"We have identified risks posed to the systems in place and improvement is required/need to be addressed with medium priority",(IF(AND(D31>49,D31<75),"We have identified no immediate risk is posed to the systems in place, however several shortfalls will need to be addressed with low priority",(IF(D31>74,"We have identified that very good/excellent systems are in place and that no risk has been identified in this process","Void result")))))))))) | G31: =IF(E31=Lists!$A$6,4,(IF(E31=Lists!$A$7,3,(IF(E31=Lists!$A$8,2,(IF(E31=Lists!$A$9,1,""))))))) | H31: =D31*G31
A35: Part E - Review and confirm your overall score
A36: Calculated overall notional score for this aspect | B36: =(SUM(H18:H31))/(SUM(G18:G31))
A37: Our assessment Your confirmation of the score (Please enter a number between 0 and 100) | C37: =(IF(B37=0,"Awaiting value",(IF(AND(B37<25,B37>0),"We have identified failures in the process that pose a significant risk",(IF(AND(B37>24,B37<50),"We have identified risks posed to the systems in place and improvement is required/need to be addressed with medium priority",(IF(AND(B37>49,B37<75),"We have identified no immediate risk is posed to the systems in place, however several shortfalls will need to be addressed with low priority",(IF(B37>74,"We have identified that very good/excellent systems are in place and that no risk has been identified in this process","Void result"))))))))))
A39: Part F - Identify enabling and constraining factors
A40: What factors most constrain and most enable your room to manoeuvre as commissioners?
A41: Part F - to be completed as a final stage following discussion on this aspect. In your discussion think about any factors that you feel will enable or constrain your work with particular reference to the impact on this commissioning aspect. Please detail below the 3 most significant enabling and 3 most significant constraining factors.
A42: Most enabling factors | B42: Most constraining factors
A43: 1 | B43: 1
A44: 2 | B44: 2
...

Sheet User&Outcome centred
A1: Step 3 Aspect 4
A2: Return to Contents
A3: User and outcome-centred
A4: Citizens are in charge of their own care, and their assessment of whether they got what they needed is how we measure our success
A5: Pre reading : Before completing this worksheet - read the document 'User and outcome-centred' - which summarises this aspect and includes the case studies, dynamic tensions and equalities issues | C5: Link to pre-reading Pre-reading for Commissioning Aspects 1-8
A6: Part A - having read the pre-reading material, discuss the case studies, dynamic tensions and equalities and equity considerations.
A7: It is recommended that you keep your discussions in mind when reviewing the statements below
A8: High and low scoring case studies | B8: Please enter your comments
A9: What are your immediate thoughts relating to the high or low scoring councils in the case studies for this apsect?
A10: How are you handling these dynamic tensions?
A11: The tension between the (in)appropriateness of a ‘one size fits all’ approach and the benefits of consistency.
A13: How are you ensuring equality and equity?
